BEGIN:VCALENDAR
VERSION:2.0
PRODID:-//Lake Interlochen - ECPv6.15.20//NONSGML v1.0//EN
CALSCALE:GREGORIAN
METHOD:PUBLISH
X-WR-CALNAME:Lake Interlochen
X-ORIGINAL-URL:https://lakeinterlochentx.com
X-WR-CALDESC:Events for Lake Interlochen
REFRESH-INTERVAL;VALUE=DURATION:PT1H
X-Robots-Tag:noindex
X-PUBLISHED-TTL:PT1H
BEGIN:VTIMEZONE
TZID:America/Chicago
BEGIN:DAYLIGHT
TZOFFSETFROM:-0600
TZOFFSETTO:-0500
TZNAME:CDT
DTSTART:20250309T080000
END:DAYLIGHT
BEGIN:STANDARD
TZOFFSETFROM:-0500
TZOFFSETTO:-0600
TZNAME:CST
DTSTART:20251102T070000
END:STANDARD
BEGIN:DAYLIGHT
TZOFFSETFROM:-0600
TZOFFSETTO:-0500
TZNAME:CDT
DTSTART:20260308T080000
END:DAYLIGHT
BEGIN:STANDARD
TZOFFSETFROM:-0500
TZOFFSETTO:-0600
TZNAME:CST
DTSTART:20261101T070000
END:STANDARD
BEGIN:DAYLIGHT
TZOFFSETFROM:-0600
TZOFFSETTO:-0500
TZNAME:CDT
DTSTART:20270314T080000
END:DAYLIGHT
BEGIN:STANDARD
TZOFFSETFROM:-0500
TZOFFSETTO:-0600
TZNAME:CST
DTSTART:20271107T070000
END:STANDARD
END:VTIMEZONE
BEGIN:VEVENT
DTSTART;TZID=America/Chicago:20260302T190000
DTEND;TZID=America/Chicago:20260302T203000
DTSTAMP:20260421T120925
CREATED:20260202T133022Z
LAST-MODIFIED:20260302T152452Z
UID:2798-1772478000-1772483400@lakeinterlochentx.com
SUMMARY:HOA Board Meeting - March 2026
DESCRIPTION:
URL:https://lakeinterlochentx.com/event/hoa-board-meeting-march-2026/
LOCATION:Slauter Residence\, 1101 Monteau Ct\, Arlington\, TX\, 76012\, United States
END:VEVENT
BEGIN:VEVENT
DTSTART;TZID=America/Chicago:20260608T190000
DTEND;TZID=America/Chicago:20260608T203000
DTSTAMP:20260421T120925
CREATED:20260308T163814Z
LAST-MODIFIED:20260308T163814Z
UID:2809-1780945200-1780950600@lakeinterlochentx.com
SUMMARY:HOA Board Meeting - June 2026
DESCRIPTION:
URL:https://lakeinterlochentx.com/event/hoa-board-meeting-june-2026/
LOCATION:Sobel Residence\, 1418 Porto Bello Ct.\, Arlington\, TX\, 76012\, United States
END:VEVENT
END:VCALENDAR